BEGIN:VCALENDAR
VERSION:2.0
PRODID:-//WanderPeter - ECPv6.15.20//NONSGML v1.0//EN
CALSCALE:GREGORIAN
METHOD:PUBLISH
X-ORIGINAL-URL:https://www.wanderpeter.de
X-WR-CALDESC:Veranstaltungen für WanderPeter
REFRESH-INTERVAL;VALUE=DURATION:PT1H
X-Robots-Tag:noindex
X-PUBLISHED-TTL:PT1H
BEGIN:VTIMEZONE
TZID:Europe/Berlin
BEGIN:DAYLIGHT
TZOFFSETFROM:+0100
TZOFFSETTO:+0200
TZNAME:CEST
DTSTART:20250330T010000
END:DAYLIGHT
BEGIN:STANDARD
TZOFFSETFROM:+0200
TZOFFSETTO:+0100
TZNAME:CET
DTSTART:20251026T010000
END:STANDARD
BEGIN:DAYLIGHT
TZOFFSETFROM:+0100
TZOFFSETTO:+0200
TZNAME:CEST
DTSTART:20260329T010000
END:DAYLIGHT
BEGIN:STANDARD
TZOFFSETFROM:+0200
TZOFFSETTO:+0100
TZNAME:CET
DTSTART:20261025T010000
END:STANDARD
BEGIN:DAYLIGHT
TZOFFSETFROM:+0100
TZOFFSETTO:+0200
TZNAME:CEST
DTSTART:20270328T010000
END:DAYLIGHT
BEGIN:STANDARD
TZOFFSETFROM:+0200
TZOFFSETTO:+0100
TZNAME:CET
DTSTART:20271031T010000
END:STANDARD
END:VTIMEZONE
BEGIN:VEVENT
DTSTART;TZID=Europe/Berlin:20261017T110000
DTEND;TZID=Europe/Berlin:20261017T110000
DTSTAMP:20260421T210832
CREATED:20251118T162226Z
LAST-MODIFIED:20251122T191346Z
UID:1350-1792234800-1792234800@www.wanderpeter.de
SUMMARY:geführte Wanderung zur Weinlese im Bopparder Hamm - in Planung
DESCRIPTION:Weglänge: 11.3 km  Steigung: 141 HM geschätzte Dauer 3:30h \nWir treffen uns am große Weinfass an der B 9 am Bahnübergang „Peternach“. Am Besten reisen wir mit dem Bus an! \nAuf den folgenden 11\,3 Kilometer können wir uns davon überzeeugen\, dass der Steillagenweinbau auch heute noch Schwerstarbeit ist. Wie wir bei einigen Probegläsern feststellen werden\, lohnt es sich aber auch. Hier enststehen erstklassige Weine die wir unterwegs genießen dürfen. \nUnterwegs geniessen wir die erstklassische Aussicht über das Rheintal\, dass sich mit seiner größten Schleife präsentiert und lernen Einiges über den Weinbau und die Landschaft am Mittelrhein; wir finden eine einzigartige Flora und Fauna vor\, die wir weiter südlich vermuten würden. \nNach der Rückkehr zum Weinfass stellt sich nur noch eine Frage: Nehmen wir den Bus nach Spay\, oder nach Boppard? Gasthäuser und Winzer gibt es in beiden Orten… \n  \nBei Vorlage der Gästekarte der Stadt Boppard 2€ Ermässigung.
URL:https://www.wanderpeter.de/event/gefuehrte-wanderung-zur-weinlese-im-bopparder-hamm/
LOCATION:Bahnübergang Peternach im Bopparder Hamm\, Peternacher Weg\, Boppard\, 56154\, Germany
CATEGORIES:geführte Wanderung
ATTACH;FMTTYPE=image/jpeg:https://www.wanderpeter.de/wp-content/uploads/2025/11/20251026_135532-scaled-e1763482932712.jpg
ORGANIZER;CN="WanderPeter":MAILTO:Peter@WanderPeter.de
END:VEVENT
END:VCALENDAR